BEGIN:VCALENDAR
VERSION:2.0
PRODID:-//hacksw/handcal//NONSGML v1.0//EN
CALSCALE:GREGORIAN
BEGIN:VEVENT
DTEND:20260501T000000Z
UID:69ecd0256e8d7
DTSTAMP:20260425T163101Z
LOCATION:Budschop 32 6031 AJ Nederweert
URL;VALUE=URI:https://www.startlijsten.nl/lijsten/209626-vrijdagavondwedstrijd-paarden-en-ponys-dressuur-psv-nederweert
SUMMARY:Nederweert - Vrijdagavondwedstrijd paarden en pony's dressuur PSV Nederweert
X-ALT-DESC;FMTTYPE=text/html:Vrijdagavondwedstrijd paarden en pony's dressuur PSV Nederweert <br><a href="https://www.startlijsten.nl/lijsten/209626-vrijdagavondwedstrijd-paarden-en-ponys-dressuur-psv-nederweert">Meer informatie</a>
DTSTART:20260501T000000Z
END:VEVENT
END:VCALENDAR