BEGIN:VCALENDAR
VERSION:2.0
PRODID:-//hacksw/handcal//NONSGML v1.0//EN
CALSCALE:GREGORIAN
BEGIN:VEVENT
DTEND:20260606T000000Z
UID:69ea2d48a2bf5
DTSTAMP:20260423T163136Z
LOCATION:Verbindingsweg 2c 8151 PP Lemelerveld
URL;VALUE=URI:https://www.startlijsten.nl/lijsten/209618-recreanten-springen
SUMMARY:Lemelerveld - Recreanten springen
X-ALT-DESC;FMTTYPE=text/html:Recreanten springen <br><a href="https://www.startlijsten.nl/lijsten/209618-recreanten-springen">Meer informatie</a>
DTSTART:20260606T000000Z
END:VEVENT
END:VCALENDAR