BEGIN:VCALENDAR
VERSION:2.0
PRODID:-//hacksw/handcal//NONSGML v1.0//EN
CALSCALE:GREGORIAN
BEGIN:VEVENT
DTEND:20260425T000000Z
UID:69ea018801217
DTSTAMP:20260423T132456Z
LOCATION:Stardam 1 4147 BN Asperen
URL;VALUE=URI:https://www.startlijsten.nl/lijsten/209616-dressuurwedstrijd-asperen
SUMMARY:Asperen - Dressuurwedstrijd Asperen
X-ALT-DESC;FMTTYPE=text/html:Dressuurwedstrijd Asperen <br><a href="https://www.startlijsten.nl/lijsten/209616-dressuurwedstrijd-asperen">Meer informatie</a>
DTSTART:20260425T000000Z
END:VEVENT
END:VCALENDAR