BEGIN:VCALENDAR
VERSION:2.0
PRODID:-//hacksw/handcal//NONSGML v1.0//EN
CALSCALE:GREGORIAN
BEGIN:VEVENT
DTEND:20260427T000000Z
UID:69e8dc7d59bad
DTSTAMP:20260422T163437Z
LOCATION:Leijerweerdsdijk 11 7461 PN Rijssen
URL;VALUE=URI:https://www.startlijsten.nl/lijsten/209611-koningsdagdressuur-2026
SUMMARY:Rijssen - Koningsdagdressuur 2026
X-ALT-DESC;FMTTYPE=text/html:Koningsdagdressuur 2026 <br><a href="https://www.startlijsten.nl/lijsten/209611-koningsdagdressuur-2026">Meer informatie</a>
DTSTART:20260427T000000Z
END:VEVENT
END:VCALENDAR