BEGIN:VCALENDAR
VERSION:2.0
PRODID:-//hacksw/handcal//NONSGML v1.0//EN
CALSCALE:GREGORIAN
BEGIN:VEVENT
DTEND:20260425T000000Z
UID:69ea2a56aca17
DTSTAMP:20260423T161902Z
LOCATION:Nekkerweg 13a 1462146 Middenbeemster
URL;VALUE=URI:https://www.startlijsten.nl/lijsten/209596-menwedstrijd
SUMMARY:Middenbeemster - menwedstrijd
X-ALT-DESC;FMTTYPE=text/html:menwedstrijd <br><a href="https://www.startlijsten.nl/lijsten/209596-menwedstrijd">Meer informatie</a>
DTSTART:20260425T000000Z
END:VEVENT
END:VCALENDAR