BEGIN:VCALENDAR
VERSION:2.0
PRODID:-//hacksw/handcal//NONSGML v1.0//EN
CALSCALE:GREGORIAN
BEGIN:VEVENT
DTEND:20260712T000000Z
UID:69e6869ce032d
DTSTAMP:20260420T220340Z
LOCATION:'t flieren 2b 5434LB Vianen (NB)
URL;VALUE=URI:https://www.startlijsten.nl/lijsten/209578-cuijkse-dressuurdag
SUMMARY:Vianen (NB) - Cuijkse dressuurdag
X-ALT-DESC;FMTTYPE=text/html:Cuijkse dressuurdag <br><a href="https://www.startlijsten.nl/lijsten/209578-cuijkse-dressuurdag">Meer informatie</a>
DTSTART:20260712T000000Z
END:VEVENT
END:VCALENDAR