BEGIN:VCALENDAR
VERSION:2.0
PRODID:-//hacksw/handcal//NONSGML v1.0//EN
CALSCALE:GREGORIAN
BEGIN:VEVENT
DTEND:20260711T000000Z
UID:69e64ddc2f959
DTSTAMP:20260420T180132Z
LOCATION:'t flieren 2b 5434LB Vianen (NB)
URL;VALUE=URI:https://www.startlijsten.nl/lijsten/209577-cuijkse-pony-dag
SUMMARY:Vianen (NB) - Cuijkse pony dag
X-ALT-DESC;FMTTYPE=text/html:Cuijkse pony dag <br><a href="https://www.startlijsten.nl/lijsten/209577-cuijkse-pony-dag">Meer informatie</a>
DTSTART:20260711T000000Z
END:VEVENT
END:VCALENDAR