BEGIN:VCALENDAR
VERSION:2.0
PRODID:-//hacksw/handcal//NONSGML v1.0//EN
CALSCALE:GREGORIAN
BEGIN:VEVENT
DTEND:20260516T000000Z
UID:69e626d72fe62
DTSTAMP:20260420T151503Z
LOCATION:Wisentweg 9a 8251 PB Dronten
URL;VALUE=URI:https://www.startlijsten.nl/lijsten/209573-outdoor-dressuurwedstrijd--tevens-2de-kringselectie-nvf
SUMMARY:Dronten - Outdoor Dressuurwedstrijd – tevens 2de Kringselectie NVF
X-ALT-DESC;FMTTYPE=text/html:Outdoor Dressuurwedstrijd – tevens 2de Kringselectie NVF <br><a href="https://www.startlijsten.nl/lijsten/209573-outdoor-dressuurwedstrijd--tevens-2de-kringselectie-nvf">Meer informatie</a>
DTSTART:20260516T000000Z
END:VEVENT
END:VCALENDAR