BEGIN:VCALENDAR
VERSION:2.0
PRODID:-//hacksw/handcal//NONSGML v1.0//EN
CALSCALE:GREGORIAN
BEGIN:VEVENT
DTEND:20260503T000000Z
UID:69e64af4a6405
DTSTAMP:20260420T174908Z
LOCATION:Kuilvenweg 4 5712GX Someren
URL;VALUE=URI:https://www.startlijsten.nl/lijsten/209568-lente-knhs--oefen-dressuur-someren
SUMMARY:Someren - Lente KNHS & oefen-Dressuur Someren
X-ALT-DESC;FMTTYPE=text/html:Lente KNHS & oefen-Dressuur Someren <br><a href="https://www.startlijsten.nl/lijsten/209568-lente-knhs--oefen-dressuur-someren">Meer informatie</a>
DTSTART:20260501T000000Z
END:VEVENT
END:VCALENDAR