BEGIN:VCALENDAR
VERSION:2.0
PRODID:-//hacksw/handcal//NONSGML v1.0//EN
CALSCALE:GREGORIAN
BEGIN:VEVENT
DTEND:20260613T000000Z
UID:69e5a92beadb9
DTSTAMP:20260420T061851Z
LOCATION:Zevenhuizerstraat 3751 LD Bunschoten
URL;VALUE=URI:https://www.startlijsten.nl/lijsten/209566-knhs-springen-paarden-070-135
SUMMARY:Bunschoten - Knhs Springen Paarden 0.70-1.35
X-ALT-DESC;FMTTYPE=text/html:Knhs Springen Paarden 0.70-1.35 <br><a href="https://www.startlijsten.nl/lijsten/209566-knhs-springen-paarden-070-135">Meer informatie</a>
DTSTART:20260612T000000Z
END:VEVENT
END:VCALENDAR