BEGIN:VCALENDAR
VERSION:2.0
PRODID:-//hacksw/handcal//NONSGML v1.0//EN
CALSCALE:GREGORIAN
BEGIN:VEVENT
DTEND:20260628T000000Z
UID:69e4d9af10aaf
DTSTAMP:20260419T153335Z
LOCATION:Breukelerwaard 7 3621 LE Breukelen
URL;VALUE=URI:https://www.startlijsten.nl/lijsten/209549-dressuur-paardenponys-b-tm-zzl
SUMMARY:Breukelen - Dressuur paarden/pony's B t/m ZZL
X-ALT-DESC;FMTTYPE=text/html:Dressuur paarden/pony's B t/m ZZL <br><a href="https://www.startlijsten.nl/lijsten/209549-dressuur-paardenponys-b-tm-zzl">Meer informatie</a>
DTSTART:20260628T000000Z
END:VEVENT
END:VCALENDAR