BEGIN:VCALENDAR
VERSION:2.0
PRODID:-//hacksw/handcal//NONSGML v1.0//EN
CALSCALE:GREGORIAN
BEGIN:VEVENT
DTEND:20260425T000000Z
UID:69e75e0a49a29
DTSTAMP:20260421T132250Z
LOCATION:Zuurbeek 14 8326 AL Vollenhove
URL;VALUE=URI:https://www.startlijsten.nl/lijsten/209535-clubkampioenschappen-psv-vollenhove
SUMMARY:Vollenhove - Clubkampioenschappen PSV Vollenhove
X-ALT-DESC;FMTTYPE=text/html:Clubkampioenschappen PSV Vollenhove <br><a href="https://www.startlijsten.nl/lijsten/209535-clubkampioenschappen-psv-vollenhove">Meer informatie</a>
DTSTART:20260424T000000Z
END:VEVENT
END:VCALENDAR