BEGIN:VCALENDAR
VERSION:2.0
PRODID:-//hacksw/handcal//NONSGML v1.0//EN
CALSCALE:GREGORIAN
BEGIN:VEVENT
DTEND:20260503T000000Z
UID:69e4d719cbfda
DTSTAMP:20260419T152233Z
LOCATION:Ekris 38 3931PX Woudenberg
URL;VALUE=URI:https://www.startlijsten.nl/lijsten/209420-knhs-outdoor-springen
SUMMARY:Woudenberg - KNHS outdoor springen
X-ALT-DESC;FMTTYPE=text/html:KNHS outdoor springen <br><a href="https://www.startlijsten.nl/lijsten/209420-knhs-outdoor-springen">Meer informatie</a>
DTSTART:20260503T000000Z
END:VEVENT
END:VCALENDAR