BEGIN:VCALENDAR
VERSION:2.0
PRODID:-//hacksw/handcal//NONSGML v1.0//EN
CALSCALE:GREGORIAN
BEGIN:VEVENT
DTEND:20260425T000000Z
UID:69ea05ae0c3a1
DTSTAMP:20260423T134238Z
LOCATION:Hoffmeijerweg 10 7495RZ Ambt-Delden
URL;VALUE=URI:https://www.startlijsten.nl/lijsten/209396-oefendressuur
SUMMARY:Ambt-Delden - Oefendressuur
X-ALT-DESC;FMTTYPE=text/html:Oefendressuur <br><a href="https://www.startlijsten.nl/lijsten/209396-oefendressuur">Meer informatie</a>
DTSTART:20260425T000000Z
END:VEVENT
END:VCALENDAR