BEGIN:VCALENDAR
VERSION:2.0
PRODID:-//hacksw/handcal//NONSGML v1.0//EN
CALSCALE:GREGORIAN
BEGIN:VEVENT
DTEND:20260426T000000Z
UID:69eb735a9f691
DTSTAMP:20260424T154250Z
LOCATION:Dijkhuizen 90 Ruinerwold 7961 AM Ruinerwold
URL;VALUE=URI:https://www.startlijsten.nl/lijsten/208384-dressuurweekend-psv-de-woldruiters--kr-op-muziek
SUMMARY:Ruinerwold - Dressuurweekend PSV de Woldruiters + Kür op muziek
X-ALT-DESC;FMTTYPE=text/html:Dressuurweekend PSV de Woldruiters + Kür op muziek <br><a href="https://www.startlijsten.nl/lijsten/208384-dressuurweekend-psv-de-woldruiters--kr-op-muziek">Meer informatie</a>
DTSTART:20260424T000000Z
END:VEVENT
END:VCALENDAR