BEGIN:VCALENDAR
VERSION:2.0
PRODID:-//hacksw/handcal//NONSGML v1.0//EN
CALSCALE:GREGORIAN
BEGIN:VEVENT
DTEND:20260525T000000Z
UID:69e8da6ae2ad6
DTSTAMP:20260422T162546Z
LOCATION:Dasselaarweg 18 3896LT Zeewolde
URL;VALUE=URI:https://www.startlijsten.nl/lijsten/208285-knhs-dressuur-rsc-zeewolde
SUMMARY:Zeewolde - KNHS dressuur RSC Zeewolde
X-ALT-DESC;FMTTYPE=text/html:KNHS dressuur RSC Zeewolde <br><a href="https://www.startlijsten.nl/lijsten/208285-knhs-dressuur-rsc-zeewolde">Meer informatie</a>
DTSTART:20260525T000000Z
END:VEVENT
END:VCALENDAR