BEGIN:VCALENDAR
VERSION:2.0
PRODID:-//hacksw/handcal//NONSGML v1.0//EN
CALSCALE:GREGORIAN
BEGIN:VEVENT
DTEND:20250919T000000Z
UID:69ece49a31363
DTSTAMP:20260425T175818Z
LOCATION:Onlandsweg 2 7481 TR Haaksbergen
URL;VALUE=URI:https://www.startlijsten.nl/lijsten/205211-jonge-paarden-zilveren-ster
SUMMARY:Haaksbergen - Jonge Paarden Zilveren Ster
X-ALT-DESC;FMTTYPE=text/html:Jonge Paarden Zilveren Ster <br><a href="https://www.startlijsten.nl/lijsten/205211-jonge-paarden-zilveren-ster">Meer informatie</a>
DTSTART:20250919T000000Z
END:VEVENT
END:VCALENDAR