BEGIN:VCALENDAR
VERSION:2.0
PRODID:-//hacksw/handcal//NONSGML v1.0//EN
CALSCALE:GREGORIAN
BEGIN:VEVENT
DTEND:20250309T000000Z
UID:69e7a8635401d
DTSTAMP:20260421T184003Z
LOCATION:Nekkerweg 13a 1462 LB Middenbeemster
URL;VALUE=URI:https://www.startlijsten.nl/lijsten/204184-minimarathon
SUMMARY:Middenbeemster - Minimarathon
X-ALT-DESC;FMTTYPE=text/html:Minimarathon <br><a href="https://www.startlijsten.nl/lijsten/204184-minimarathon">Meer informatie</a>
DTSTART:20250309T000000Z
END:VEVENT
END:VCALENDAR