BEGIN:VCALENDAR
VERSION:2.0
PRODID:-//hacksw/handcal//NONSGML v1.0//EN
CALSCALE:GREGORIAN
BEGIN:VEVENT
DTEND:20241015T000000Z
UID:69e9ef2b156fb
DTSTAMP:20260423T120635Z
LOCATION:Poelweg 2 8171 NG Vaassen
URL;VALUE=URI:https://www.startlijsten.nl/lijsten/195292-oefenparcours
SUMMARY:Vaassen - Oefenparcours
X-ALT-DESC;FMTTYPE=text/html:Oefenparcours <br><a href="https://www.startlijsten.nl/lijsten/195292-oefenparcours">Meer informatie</a>
DTSTART:20241015T000000Z
END:VEVENT
END:VCALENDAR