BEGIN:VCALENDAR
VERSION:2.0
PRODID:-//hacksw/handcal//NONSGML v1.0//EN
CALSCALE:GREGORIAN
BEGIN:VEVENT
DTEND:20260426T000000Z
UID:69eb770d11a3d
DTSTAMP:20260424T155837Z
LOCATION:Panoven 2\, 6595 MM Ottersum 6595MM Ottersum
URL;VALUE=URI:https://www.startlijsten.nl/lijsten/193527-concours-ottersum-paarden-25-en-26-april-2026
SUMMARY:Ottersum - Concours Ottersum Paarden 25 en 26 april 2026
X-ALT-DESC;FMTTYPE=text/html:Concours Ottersum Paarden 25 en 26 april 2026 <br><a href="https://www.startlijsten.nl/lijsten/193527-concours-ottersum-paarden-25-en-26-april-2026">Meer informatie</a>
DTSTART:20260425T000000Z
END:VEVENT
END:VCALENDAR