BEGIN:VCALENDAR
VERSION:2.0
PRODID:-//hacksw/handcal//NONSGML v1.0//EN
CALSCALE:GREGORIAN
BEGIN:VEVENT
DTEND:20250123T000000Z
UID:69e578ba4383f
DTSTAMP:20260420T025210Z
LOCATION:Harlingerweg 80 8801 PD Franeker
URL;VALUE=URI:https://www.startlijsten.nl/lijsten/190953-oefenparcours
SUMMARY:Franeker - Oefenparcours
X-ALT-DESC;FMTTYPE=text/html:Oefenparcours <br><a href="https://www.startlijsten.nl/lijsten/190953-oefenparcours">Meer informatie</a>
DTSTART:20250123T000000Z
END:VEVENT
END:VCALENDAR