BEGIN:VCALENDAR
VERSION:2.0
PRODID:-//hacksw/handcal//NONSGML v1.0//EN
CALSCALE:GREGORIAN
BEGIN:VEVENT
DTEND:20190420T000000Z
UID:69e5d8aaecfc5
DTSTAMP:20260420T094130Z
LOCATION:Parkweg 5 9865 VN Opende
URL;VALUE=URI:https://www.startlijsten.nl/lijsten/169639-westerkwartier-paardenvertier
SUMMARY:Opende - Westerkwartier Paardenvertier
X-ALT-DESC;FMTTYPE=text/html:Westerkwartier Paardenvertier <br><a href="https://www.startlijsten.nl/lijsten/169639-westerkwartier-paardenvertier">Meer informatie</a>
DTSTART:20190420T000000Z
END:VEVENT
END:VCALENDAR